BEGIN:VCALENDAR
VERSION:2.0
PRODID:-//Blume Flower School - ECPv4.8.1//NONSGML v1.0//EN
CALSCALE:GREGORIAN
METHOD:PUBLISH
X-WR-CALNAME:Blume Flower School
X-ORIGINAL-URL:https://blume.com.au
X-WR-CALDESC:Events for Blume Flower School
BEGIN:VEVENT
DTSTART;VALUE=DATE:20181130
DTEND;VALUE=DATE:20181203
DTSTAMP:20190228T230616
CREATED:20181102T080042Z
LAST-MODIFIED:20181102T090102Z
UID:1645-1543536000-1543795199@blume.com.au
SUMMARY:Finders Keepers Sydney
DESCRIPTION:Be sure to follow us on Instagram to see the results and get a sneaky look behind the scenes. Also #finderskeepersbts is a good one to follow. \nSo\, will you make your own wreath this year or come and get yours at the Finders Keepers? \n
URL:https://blume.com.au/event/finders-keepers-sydney/
LOCATION:The Cutaway\, Barangaroo Reserve Hickson Road\, Barangaroo\, NSW\, 2000\, Australia
ATTACH;FMTTYPE=image/gif:https://blume.com.au/wp-content/uploads/2018/10/TFK-SYD-MREC-static-300x250.gif
ORGANIZER;CN="Blume%20Flower%20School":MAILTO:info@blume.com.au
END:VEVENT
END:VCALENDAR