BEGIN:VCALENDAR
VERSION:2.0
PRODID:-//Blume Flower School - ECPv4.8.1//NONSGML v1.0//EN
CALSCALE:GREGORIAN
METHOD:PUBLISH
X-WR-CALNAME:Blume Flower School
X-ORIGINAL-URL:https://blume.com.au
X-WR-CALDESC:Events for Blume Flower School
BEGIN:VEVENT
DTSTART;TZID=Australia/Sydney:20181206T183000
DTEND;TZID=Australia/Sydney:20181206T203000
DTSTAMP:20190228T230702
CREATED:20181102T075253Z
LAST-MODIFIED:20181102T082153Z
UID:1641-1544121000-1544128200@blume.com.au
SUMMARY:Natural Wreath Workshop at Tramshed
DESCRIPTION:Did you make your own wreath last year? Join the makers and decorate your home with beautiful Australian foliage and flowers. \nWe focus on Native materials because they will last well beyond the festive season…and we love them. \nI have been experimenting with glycerine preservation these past few months and I am loving the results\, especially on the Australian gum. \nMaterials that are given a good drink of the mixture have taken on a deeper richer tone\, staying supple without getting dry and brittle. \nThe process started when Blume was offered a spot at the Finders Keepers in Sydney and I wanted to make the most beautiful\, long-lasting\, sustainable wreath ever. \nNatural Wreath for your Door or Table \nMake your own festive wreath this year and decorate your house with some beautiful Australian foliage and flowers. The materials used will dry beautifully and your wreath will last well beyond the festive season. \nThe Festive Table \nLet’s make it special this year and create the perfect table setting with us. You will learn how to make a table garland and centrepieces for your special occasion. With our summer temperatures in mind we will focus on materials that will look lush over the holidays. \n
URL:https://blume.com.au/event/natural-wreath-the-festive-table-workshops-at-tramsheds/
LOCATION:Tramsheds\, 1 Dalgal Way\, Forest Lodge\, NSW\, 2037\, Australia
ATTACH;FMTTYPE=image/jpeg:https://blume.com.au/wp-content/uploads/2018/10/eIMG_9960_2_-e1540906695684.jpg
ORGANIZER;CN="Blume%20Flower%20School":MAILTO:info@blume.com.au
END:VEVENT
END:VCALENDAR